Package: SCBN Version: 1.25.0 Command: /Library/Frameworks/R.framework/Resources/bin/R CMD INSTALL SCBN StartedAt: 2025-02-17 15:03:11 -0500 (Mon, 17 Feb 2025) EndedAt: 2025-02-17 15:03:36 -0500 (Mon, 17 Feb 2025) EllapsedTime: 25.0 seconds RetCode: 0 Status: OK