Package: SCBN Version: 1.25.0 Command: /Library/Frameworks/R.framework/Resources/bin/R CMD build --keep-empty-dirs --no-resave-data SCBN StartedAt: 2025-02-17 18:05:23 -0500 (Mon, 17 Feb 2025) EndedAt: 2025-02-17 18:06:25 -0500 (Mon, 17 Feb 2025) EllapsedTime: 61.5 seconds RetCode: 0 Status: OK PackageFile: SCBN_1.25.0.tar.gz PackageFileSize: 516.3 KiB