Package: SCBN Version: 1.25.0 Command: rm -rf SCBN.buildbin-libdir && mkdir SCBN.buildbin-libdir && /Users/biocbuild/BBS/utils/build-universal.sh SCBN_1.25.0.tar.gz /Library/Frameworks/R.framework/Resources/bin/R SCBN.buildbin-libdir StartedAt: 2025-02-18 00:45:07 -0500 (Tue, 18 Feb 2025) EndedAt: 2025-02-18 00:45:13 -0500 (Tue, 18 Feb 2025) EllapsedTime: 5.8 seconds RetCode: 0 Status: OK PackageFile: SCBN_1.25.0.tgz PackageFileSize: 651 KiB