Package: SCBN Version: 1.25.0 Command: /home/biocbuild/R/R/bin/R CMD build --keep-empty-dirs --no-resave-data SCBN StartedAt: 2025-01-29 02:00:42 -0000 (Wed, 29 Jan 2025) EndedAt: 2025-01-29 02:01:56 -0000 (Wed, 29 Jan 2025) EllapsedTime: 74.1 seconds RetCode: 0 Status: OK PackageFile: SCBN_1.25.0.tar.gz PackageFileSize: 541.9 KiB