Package: SCArray Version: 1.15.1 Command: chmod a+r SCArray -R && E:\biocbuild\bbs-3.21-bioc\R\bin\R.exe CMD build --keep-empty-dirs --no-resave-data SCArray StartedAt: 2025-02-20 21:30:43 -0500 (Thu, 20 Feb 2025) EndedAt: 2025-02-20 21:33:00 -0500 (Thu, 20 Feb 2025) EllapsedTime: 137.2 seconds RetCode: 1 Status: ERROR PackageFile: None PackageFileSize: NA