Package: SCArray Version: 1.15.1 Command: /home/biocbuild/bbs-3.21-bioc/R/bin/R CMD build --keep-empty-dirs --no-resave-data SCArray StartedAt: 2025-02-20 19:06:10 -0500 (Thu, 20 Feb 2025) EndedAt: 2025-02-20 19:07:22 -0500 (Thu, 20 Feb 2025) EllapsedTime: 72.1 seconds RetCode: 1 Status: ERROR PackageFile: None PackageFileSize: NA