Package: SCArray Version: 1.15.1 Command: /Library/Frameworks/R.framework/Resources/bin/R CMD build --keep-empty-dirs --no-resave-data SCArray StartedAt: 2025-02-20 18:06:43 -0500 (Thu, 20 Feb 2025) EndedAt: 2025-02-20 18:07:54 -0500 (Thu, 20 Feb 2025) EllapsedTime: 71.2 seconds RetCode: 1 Status: ERROR PackageFile: None PackageFileSize: NA