Package: SCArray Version: 1.15.1 Command: /home/biocbuild/R/R/bin/R CMD build --keep-empty-dirs --no-resave-data SCArray StartedAt: 2025-01-29 01:59:29 -0000 (Wed, 29 Jan 2025) EndedAt: 2025-01-29 02:01:13 -0000 (Wed, 29 Jan 2025) EllapsedTime: 104.1 seconds RetCode: 0 Status: OK PackageFile: SCArray_1.15.1.tar.gz PackageFileSize: 1.282 MiB