Package: SCArray Version: 1.15.1 Command: /Library/Frameworks/R.framework/Resources/bin/R CMD INSTALL SCArray StartedAt: 2025-02-20 15:24:48 -0500 (Thu, 20 Feb 2025) EndedAt: 2025-02-20 15:25:04 -0500 (Thu, 20 Feb 2025) EllapsedTime: 15.9 seconds RetCode: 0 Status: OK