Package: SCArray Version: 1.16.0 Command: /Library/Frameworks/R.framework/Resources/bin/R CMD INSTALL SCArray StartedAt: 2025-10-09 18:16:27 -0400 (Thu, 09 Oct 2025) EndedAt: 2025-10-09 18:17:14 -0400 (Thu, 09 Oct 2025) EllapsedTime: 47.1 seconds RetCode: 0 Status: OK