Package: SCArray Version: 1.16.0 Command: /Library/Frameworks/R.framework/Resources/bin/R CMD build --keep-empty-dirs --no-resave-data SCArray StartedAt: 2025-10-10 08:52:28 -0400 (Fri, 10 Oct 2025) EndedAt: 2025-10-10 08:54:19 -0400 (Fri, 10 Oct 2025) EllapsedTime: 111.3 seconds RetCode: 0 Status: OK PackageFile: SCArray_1.16.0.tar.gz PackageFileSize: 1.361 MiB