Package: SCArray.sat Version: 1.7.0 Command: E:\biocbuild\bbs-3.21-bioc\R\bin\R.exe CMD INSTALL SCArray.sat StartedAt: 2025-02-20 16:49:32 -0500 (Thu, 20 Feb 2025) EndedAt: 2025-02-20 16:50:26 -0500 (Thu, 20 Feb 2025) EllapsedTime: 54.2 seconds RetCode: 0 Status: OK