Package: SCArray.sat Version: 1.7.0 Command: chmod a+r SCArray.sat -R && E:\biocbuild\bbs-3.21-bioc\R\bin\R.exe CMD build --keep-empty-dirs --no-resave-data SCArray.sat StartedAt: 2025-02-20 21:30:45 -0500 (Thu, 20 Feb 2025) EndedAt: 2025-02-20 21:32:29 -0500 (Thu, 20 Feb 2025) EllapsedTime: 104.6 seconds RetCode: 1 Status: ERROR PackageFile: None PackageFileSize: NA