Package: SCArray.sat Version: 1.7.0 Command: /home/biocbuild/bbs-3.21-bioc/R/bin/R CMD check --install=check:SCArray.sat.install-out.txt --library=/home/biocbuild/bbs-3.21-bioc/R/site-library --timings SCArray.sat_1.7.0.tar.gz StartedAt: 2025-02-03 02:04:58 -0500 (Mon, 03 Feb 2025) EndedAt: 2025-02-03 02:11:04 -0500 (Mon, 03 Feb 2025) EllapsedTime: 365.4 seconds RetCode: 0 Status: OK CheckDir: SCArray.sat.Rcheck Warnings: 0