Package: SCArray.sat Version: 1.8.0 Command: /Library/Frameworks/R.framework/Resources/bin/R CMD INSTALL SCArray.sat StartedAt: 2025-10-13 16:41:09 -0400 (Mon, 13 Oct 2025) EndedAt: 2025-10-13 16:42:40 -0400 (Mon, 13 Oct 2025) EllapsedTime: 91.8 seconds RetCode: 0 Status: OK