Package: SCArray.sat Version: 1.8.0 Command: /Library/Frameworks/R.framework/Resources/bin/R CMD build --keep-empty-dirs --no-resave-data SCArray.sat StartedAt: 2025-10-09 22:17:57 -0400 (Thu, 09 Oct 2025) EndedAt: 2025-10-09 22:21:05 -0400 (Thu, 09 Oct 2025) EllapsedTime: 187.5 seconds RetCode: 0 Status: OK PackageFile: SCArray.sat_1.8.0.tar.gz PackageFileSize: 693 KiB