Package: SCArray.sat Version: 1.7.0 Command: /Library/Frameworks/R.framework/Resources/bin/R CMD INSTALL SCArray.sat StartedAt: 2025-02-20 15:39:21 -0500 (Thu, 20 Feb 2025) EndedAt: 2025-02-20 15:40:16 -0500 (Thu, 20 Feb 2025) EllapsedTime: 55.3 seconds RetCode: 0 Status: OK