Package: SCArray.sat Version: 1.7.0 Command: /Library/Frameworks/R.framework/Resources/bin/R CMD INSTALL SCArray.sat StartedAt: 2025-02-20 15:25:50 -0500 (Thu, 20 Feb 2025) EndedAt: 2025-02-20 15:26:06 -0500 (Thu, 20 Feb 2025) EllapsedTime: 16.3 seconds RetCode: 0 Status: OK