Package: SCArray.sat Version: 1.8.0 Command: /Library/Frameworks/R.framework/Resources/bin/R CMD INSTALL SCArray.sat StartedAt: 2025-09-29 18:24:14 -0400 (Mon, 29 Sep 2025) EndedAt: 2025-09-29 18:25:03 -0400 (Mon, 29 Sep 2025) EllapsedTime: 49.6 seconds RetCode: 0 Status: OK