Package: SCArray.sat Version: 1.8.0 Command: /Library/Frameworks/R.framework/Resources/bin/R CMD build --keep-empty-dirs --no-resave-data SCArray.sat StartedAt: 2025-09-30 08:27:21 -0400 (Tue, 30 Sep 2025) EndedAt: 2025-09-30 08:29:21 -0400 (Tue, 30 Sep 2025) EllapsedTime: 120.1 seconds RetCode: 0 Status: OK PackageFile: SCArray.sat_1.8.0.tar.gz PackageFileSize: 693.2 KiB