Package: SCANVIS Version: 1.21.0 Command: E:\biocbuild\bbs-3.21-bioc\R\bin\R.exe CMD INSTALL SCANVIS StartedAt: 2025-02-18 16:14:28 -0500 (Tue, 18 Feb 2025) EndedAt: 2025-02-18 16:15:06 -0500 (Tue, 18 Feb 2025) EllapsedTime: 38.4 seconds RetCode: 0 Status: OK