Package: SCANVIS Version: 1.21.0 Command: chmod a+r SCANVIS -R && E:\biocbuild\bbs-3.21-bioc\R\bin\R.exe CMD build --keep-empty-dirs --no-resave-data SCANVIS StartedAt: 2025-02-19 21:24:12 -0500 (Wed, 19 Feb 2025) EndedAt: 2025-02-19 21:25:18 -0500 (Wed, 19 Feb 2025) EllapsedTime: 65.9 seconds RetCode: 0 Status: OK PackageFile: SCANVIS_1.21.0.tar.gz PackageFileSize: 471.2 KiB