Package: SCANVIS Version: 1.21.0 Command: /home/biocbuild/bbs-3.21-bioc/R/bin/R CMD INSTALL SCANVIS StartedAt: 2025-02-18 15:24:37 -0500 (Tue, 18 Feb 2025) EndedAt: 2025-02-18 15:25:09 -0500 (Tue, 18 Feb 2025) EllapsedTime: 31.2 seconds RetCode: 0 Status: OK