Package: SCANVIS Version: 1.21.0 Command: /home/biocbuild/bbs-3.21-bioc/R/bin/R CMD build --keep-empty-dirs --no-resave-data SCANVIS StartedAt: 2025-02-18 18:55:28 -0500 (Tue, 18 Feb 2025) EndedAt: 2025-02-18 18:56:12 -0500 (Tue, 18 Feb 2025) EllapsedTime: 44.0 seconds RetCode: 0 Status: OK PackageFile: SCANVIS_1.21.0.tar.gz PackageFileSize: 470.4 KiB