Package: SCAN.UPC Version: 2.49.0 Command: chmod a+r SCAN.UPC -R && E:\biocbuild\bbs-3.21-bioc\R\bin\R.exe CMD build --keep-empty-dirs --no-resave-data SCAN.UPC StartedAt: 2025-02-20 21:29:49 -0500 (Thu, 20 Feb 2025) EndedAt: 2025-02-20 21:30:46 -0500 (Thu, 20 Feb 2025) EllapsedTime: 57.0 seconds RetCode: 0 Status: OK PackageFile: SCAN.UPC_2.49.0.tar.gz PackageFileSize: 557.8 KiB