Package: SCAN.UPC Version: 2.49.0 Command: /home/biocbuild/bbs-3.21-bioc/R/bin/R CMD INSTALL SCAN.UPC StartedAt: 2025-02-20 15:45:23 -0500 (Thu, 20 Feb 2025) EndedAt: 2025-02-20 15:45:24 -0500 (Thu, 20 Feb 2025) EllapsedTime: 0.3 seconds RetCode: 1 Status: ERROR