Package: SC3 Version: 1.35.0 Command: E:\biocbuild\bbs-3.21-bioc\R\bin\R.exe CMD INSTALL SC3 StartedAt: 2025-02-20 16:12:53 -0500 (Thu, 20 Feb 2025) EndedAt: 2025-02-20 16:14:56 -0500 (Thu, 20 Feb 2025) EllapsedTime: 123.6 seconds RetCode: 0 Status: OK