Package: SC3 Version: 1.35.0 Command: E:\biocbuild\bbs-3.21-bioc\R\bin\R.exe CMD check --no-multiarch --install=check:SC3.install-out.txt --library=E:\biocbuild\bbs-3.21-bioc\R\library --no-vignettes --timings SC3_1.35.0.tar.gz StartedAt: 2025-02-21 05:18:50 -0500 (Fri, 21 Feb 2025) EndedAt: 2025-02-21 05:22:38 -0500 (Fri, 21 Feb 2025) EllapsedTime: 227.8 seconds RetCode: 0 Status: OK CheckDir: SC3.Rcheck Warnings: 0