Package: SC3 Version: 1.35.0 Command: /home/biocbuild/bbs-3.21-bioc/R/bin/R CMD INSTALL SC3 StartedAt: 2025-02-20 15:27:52 -0500 (Thu, 20 Feb 2025) EndedAt: 2025-02-20 15:28:32 -0500 (Thu, 20 Feb 2025) EllapsedTime: 40.6 seconds RetCode: 0 Status: OK