Package: SC3 Version: 1.35.0 Command: /home/biocbuild/bbs-3.21-bioc/R/bin/R CMD check --install=check:SC3.install-out.txt --library=/home/biocbuild/bbs-3.21-bioc/R/site-library --timings SC3_1.35.0.tar.gz StartedAt: 2025-02-21 01:29:28 -0500 (Fri, 21 Feb 2025) EndedAt: 2025-02-21 01:38:44 -0500 (Fri, 21 Feb 2025) EllapsedTime: 555.7 seconds RetCode: 0 Status: OK CheckDir: SC3.Rcheck Warnings: 0