Package: SC3 Version: 1.35.0 Command: /Library/Frameworks/R.framework/Resources/bin/R CMD check --install=check:SC3.install-out.txt --library=/Library/Frameworks/R.framework/Resources/library --no-vignettes --timings SC3_1.35.0.tar.gz StartedAt: 2025-02-20 22:59:04 -0500 (Thu, 20 Feb 2025) EndedAt: 2025-02-20 23:02:18 -0500 (Thu, 20 Feb 2025) EllapsedTime: 194.0 seconds RetCode: 0 Status: OK CheckDir: SC3.Rcheck Warnings: 0