Package: SC3 Version: 1.35.0 Command: /Library/Frameworks/R.framework/Resources/bin/R CMD build --keep-empty-dirs --no-resave-data SC3 StartedAt: 2025-02-20 18:06:16 -0500 (Thu, 20 Feb 2025) EndedAt: 2025-02-20 18:13:58 -0500 (Thu, 20 Feb 2025) EllapsedTime: 462.4 seconds RetCode: 0 Status: OK PackageFile: SC3_1.35.0.tar.gz PackageFileSize: 3.369 MiB