Package: SC3 Version: 1.35.0 Command: /Library/Frameworks/R.framework/Resources/bin/R CMD INSTALL SC3 StartedAt: 2025-02-20 15:15:12 -0500 (Thu, 20 Feb 2025) EndedAt: 2025-02-20 15:15:28 -0500 (Thu, 20 Feb 2025) EllapsedTime: 15.8 seconds RetCode: 0 Status: OK