Package: SBMLR Version: 2.3.0 Command: /home/biocbuild/bbs-3.21-bioc/R/bin/R CMD INSTALL SBMLR StartedAt: 2025-02-20 15:02:57 -0500 (Thu, 20 Feb 2025) EndedAt: 2025-02-20 15:03:00 -0500 (Thu, 20 Feb 2025) EllapsedTime: 2.8 seconds RetCode: 0 Status: OK