Package: SBMLR Version: 2.3.0 Command: /home/biocbuild/R/R/bin/R CMD build --keep-empty-dirs --no-resave-data SBMLR StartedAt: 2025-01-29 01:57:46 -0000 (Wed, 29 Jan 2025) EndedAt: 2025-01-29 01:57:59 -0000 (Wed, 29 Jan 2025) EllapsedTime: 13.0 seconds RetCode: 0 Status: OK PackageFile: SBMLR_2.3.0.tar.gz PackageFileSize: 269 KiB