Package: SBGNview Version: 1.21.0 Command: E:\biocbuild\bbs-3.21-bioc\R\bin\R.exe CMD check --no-multiarch --install=check:SBGNview.install-out.txt --library=E:\biocbuild\bbs-3.21-bioc\R\library --no-vignettes --timings SBGNview_1.21.0.tar.gz StartedAt: 2025-02-20 05:01:09 -0500 (Thu, 20 Feb 2025) EndedAt: 2025-02-20 05:06:29 -0500 (Thu, 20 Feb 2025) EllapsedTime: 319.4 seconds RetCode: 0 Status: OK CheckDir: SBGNview.Rcheck Warnings: 0