Package: SBGNview Version: 1.21.0 Command: chmod a+r SBGNview -R && E:\biocbuild\bbs-3.21-bioc\R\bin\R.exe CMD build --keep-empty-dirs --no-resave-data SBGNview StartedAt: 2025-02-19 21:23:09 -0500 (Wed, 19 Feb 2025) EndedAt: 2025-02-19 21:26:13 -0500 (Wed, 19 Feb 2025) EllapsedTime: 183.8 seconds RetCode: 0 Status: OK PackageFile: SBGNview_1.21.0.tar.gz PackageFileSize: 1.682 MiB