Package: SARC Version: 1.5.0 Command: chmod a+r SARC -R && E:\biocbuild\bbs-3.21-bioc\R\bin\R.exe CMD build --keep-empty-dirs --no-resave-data SARC StartedAt: 2025-02-18 21:17:50 -0500 (Tue, 18 Feb 2025) EndedAt: 2025-02-18 21:20:12 -0500 (Tue, 18 Feb 2025) EllapsedTime: 141.6 seconds RetCode: 0 Status: OK PackageFile: SARC_1.5.0.tar.gz PackageFileSize: 3.426 MiB