Package: SARC Version: 1.5.0 Command: rm -rf SARC.buildbin-libdir && mkdir SARC.buildbin-libdir && E:\biocbuild\bbs-3.21-bioc\R\bin\R.exe CMD INSTALL --build --library=SARC.buildbin-libdir SARC_1.5.0.tar.gz StartedAt: 2025-02-19 08:19:36 -0500 (Wed, 19 Feb 2025) EndedAt: 2025-02-19 08:20:32 -0500 (Wed, 19 Feb 2025) EllapsedTime: 56.5 seconds RetCode: 0 Status: OK PackageFile: SARC_1.5.0.zip PackageFileSize: 2.028 MiB