Package: SANTA Version: 2.43.0 Command: rm -rf SANTA.buildbin-libdir && mkdir SANTA.buildbin-libdir && E:\biocbuild\bbs-3.21-bioc\R\bin\R.exe CMD INSTALL --build --library=SANTA.buildbin-libdir SANTA_2.43.0.tar.gz StartedAt: 2025-02-21 09:00:02 -0500 (Fri, 21 Feb 2025) EndedAt: 2025-02-21 09:00:25 -0500 (Fri, 21 Feb 2025) EllapsedTime: 23.3 seconds RetCode: 0 Status: OK PackageFile: SANTA_2.43.0.zip PackageFileSize: 4.144 MiB