Package: SAIGEgds Version: 2.7.1 Command: E:\biocbuild\bbs-3.21-bioc\R\bin\R.exe CMD INSTALL SAIGEgds StartedAt: 2025-02-20 16:01:01 -0500 (Thu, 20 Feb 2025) EndedAt: 2025-02-20 16:06:43 -0500 (Thu, 20 Feb 2025) EllapsedTime: 341.1 seconds RetCode: 0 Status: OK