Package: SAIGEgds Version: 2.7.1 Command: chmod a+r SAIGEgds -R && E:\biocbuild\bbs-3.21-bioc\R\bin\R.exe CMD build --keep-empty-dirs --no-resave-data SAIGEgds StartedAt: 2025-02-20 21:28:20 -0500 (Thu, 20 Feb 2025) EndedAt: 2025-02-20 21:32:00 -0500 (Thu, 20 Feb 2025) EllapsedTime: 220.7 seconds RetCode: 0 Status: OK PackageFile: SAIGEgds_2.7.1.tar.gz PackageFileSize: 1.858 MiB