Package: SAIGEgds Version: 2.7.1 Command: /Library/Frameworks/R.framework/Resources/bin/R CMD build --keep-empty-dirs --no-resave-data SAIGEgds StartedAt: 2025-02-19 18:05:50 -0500 (Wed, 19 Feb 2025) EndedAt: 2025-02-19 18:06:56 -0500 (Wed, 19 Feb 2025) EllapsedTime: 66.3 seconds RetCode: 0 Status: OK PackageFile: SAIGEgds_2.7.1.tar.gz PackageFileSize: 1.976 MiB