Package: SAIGEgds Version: 2.7.1 Command: /Library/Frameworks/R.framework/Resources/bin/R CMD INSTALL SAIGEgds StartedAt: 2025-02-20 15:24:22 -0500 (Thu, 20 Feb 2025) EndedAt: 2025-02-20 15:24:38 -0500 (Thu, 20 Feb 2025) EllapsedTime: 16.0 seconds RetCode: 0 Status: OK