Package: SAIGEgds Version: 2.7.1 Command: /Library/Frameworks/R.framework/Resources/bin/R CMD build --keep-empty-dirs --no-resave-data SAIGEgds StartedAt: 2025-02-20 17:28:32 -0500 (Thu, 20 Feb 2025) EndedAt: 2025-02-20 17:28:55 -0500 (Thu, 20 Feb 2025) EllapsedTime: 23.3 seconds RetCode: 0 Status: OK PackageFile: SAIGEgds_2.7.1.tar.gz PackageFileSize: 1.976 MiB