Package: SAIGEgds Version: 2.7.1 Command: rm -rf SAIGEgds.buildbin-libdir && mkdir SAIGEgds.buildbin-libdir && /Users/biocbuild/BBS/utils/build-universal.sh SAIGEgds_2.7.1.tar.gz /Library/Frameworks/R.framework/Resources/bin/R SAIGEgds.buildbin-libdir StartedAt: 2025-02-20 22:33:39 -0500 (Thu, 20 Feb 2025) EndedAt: 2025-02-20 22:33:57 -0500 (Thu, 20 Feb 2025) EllapsedTime: 18.4 seconds RetCode: 0 Status: OK PackageFile: SAIGEgds_2.7.1.tgz PackageFileSize: 2.347 MiB