Package: S4Vectors Version: 0.45.4 Command: E:\biocbuild\bbs-3.21-bioc\R\bin\R.exe CMD INSTALL S4Vectors StartedAt: 2025-02-20 15:20:09 -0500 (Thu, 20 Feb 2025) EndedAt: 2025-02-20 15:24:52 -0500 (Thu, 20 Feb 2025) EllapsedTime: 282.5 seconds RetCode: 0 Status: OK