Package: S4Vectors Version: 0.45.4 Command: E:\biocbuild\bbs-3.21-bioc\R\bin\R.exe CMD check --no-multiarch --install=check:S4Vectors.install-out.txt --library=E:\biocbuild\bbs-3.21-bioc\R\library --no-vignettes --timings S4Vectors_0.45.4.tar.gz StartedAt: 2025-02-21 05:16:28 -0500 (Fri, 21 Feb 2025) EndedAt: 2025-02-21 05:18:39 -0500 (Fri, 21 Feb 2025) EllapsedTime: 131.1 seconds RetCode: 0 Status: WARNINGS CheckDir: S4Vectors.Rcheck Warnings: 3