Package: S4Vectors Version: 0.45.4 Command: /home/biocbuild/bbs-3.21-bioc/R/bin/R CMD INSTALL S4Vectors StartedAt: 2025-02-19 15:11:50 -0500 (Wed, 19 Feb 2025) EndedAt: 2025-02-19 15:12:14 -0500 (Wed, 19 Feb 2025) EllapsedTime: 23.9 seconds RetCode: 0 Status: OK