Package: S4Vectors Version: 0.45.4 Command: /home/biocbuild/bbs-3.21-bioc/R/bin/R CMD check --install=check:S4Vectors.install-out.txt --library=/home/biocbuild/bbs-3.21-bioc/R/site-library --timings S4Vectors_0.45.4.tar.gz StartedAt: 2025-02-20 02:02:10 -0500 (Thu, 20 Feb 2025) EndedAt: 2025-02-20 02:04:11 -0500 (Thu, 20 Feb 2025) EllapsedTime: 121.2 seconds RetCode: 0 Status: WARNINGS CheckDir: S4Vectors.Rcheck Warnings: 2